BEGIN:VCALENDAR
VERSION:2.0
PRODID:-//alcmi.org//NONSGML kigkonsult.se iCalcreator 2.30.10//
CALSCALE:GREGORIAN
METHOD:PUBLISH
UID:298546da-1ac5-47a5-b3f9-a33d80fd44ba
X-WR-CALDESC:
X-WR-RELCALID:9b83188571cf0a47f1c15f3da5847a5b
X-WR-TIMEZONE:America/Los_Angeles
BEGIN:VTIMEZONE
TZID:America/Los_Angeles
BEGIN:STANDARD
TZNAME:PST
DTSTART:20251102T020000
TZOFFSETFROM:-0700
TZOFFSETTO:-0800
RDATE:20261101T020000
END:STANDARD
BEGIN:DAYLIGHT
TZNAME:PDT
DTSTART:20260308T020000
TZOFFSETFROM:-0800
TZOFFSETTO:-0700
RDATE:20270314T020000
END:DAYLIGHT
END:VTIMEZONE
BEGIN:VEVENT
UID:578943ba-b7bd-4027-94a0-fee7f17d8ef9
DTSTAMP:20260419T141714Z
DESCRIPTION:
DTSTART;TZID=America/Los_Angeles:20260417T030000
DTEND;TZID=America/Los_Angeles:20260422T030001
LOCATION:San Diego\, CA
SUMMARY:AACR Annual Meeting 2026
END:VEVENT
END:VCALENDAR
